BEGIN:VCALENDAR
VERSION:2.0
PRODID:-//Edison Chargers Boys Lacrosse - ECPv6.15.20//NONSGML v1.0//EN
CALSCALE:GREGORIAN
METHOD:PUBLISH
X-WR-CALNAME:Edison Chargers Boys Lacrosse
X-ORIGINAL-URL:https://edisonlax.com
X-WR-CALDESC:Events for Edison Chargers Boys Lacrosse
REFRESH-INTERVAL;VALUE=DURATION:PT1H
X-Robots-Tag:noindex
X-PUBLISHED-TTL:PT1H
BEGIN:VTIMEZONE
TZID:America/Los_Angeles
BEGIN:DAYLIGHT
TZOFFSETFROM:-0800
TZOFFSETTO:-0700
TZNAME:PDT
DTSTART:20240310T100000
END:DAYLIGHT
BEGIN:STANDARD
TZOFFSETFROM:-0700
TZOFFSETTO:-0800
TZNAME:PST
DTSTART:20241103T090000
END:STANDARD
BEGIN:DAYLIGHT
TZOFFSETFROM:-0800
TZOFFSETTO:-0700
TZNAME:PDT
DTSTART:20250309T100000
END:DAYLIGHT
BEGIN:STANDARD
TZOFFSETFROM:-0700
TZOFFSETTO:-0800
TZNAME:PST
DTSTART:20251102T090000
END:STANDARD
BEGIN:DAYLIGHT
TZOFFSETFROM:-0800
TZOFFSETTO:-0700
TZNAME:PDT
DTSTART:20260308T100000
END:DAYLIGHT
BEGIN:STANDARD
TZOFFSETFROM:-0700
TZOFFSETTO:-0800
TZNAME:PST
DTSTART:20261101T090000
END:STANDARD
END:VTIMEZONE
BEGIN:VEVENT
DTSTART;TZID=America/Los_Angeles:20251020T180000
DTEND;TZID=America/Los_Angeles:20251020T190000
DTSTAMP:20260420T181150
CREATED:20251001T185354Z
LAST-MODIFIED:20251010T222311Z
UID:3182-1760983200-1760986800@edisonlax.com
SUMMARY:Parents Meeting - October 20th - 6pm - 7pm
DESCRIPTION:Hello LAX families\, \nWe will have a parent meeting on Monday\, October 20th at 6:00 pm in the library.  All new or interested players are welcome!
URL:https://edisonlax.com/event/parents-meeting-october-20th-6pm-7pm/
LOCATION:CA
CATEGORIES:Parent Meeting
END:VEVENT
BEGIN:VEVENT
DTSTART;TZID=America/Los_Angeles:20251014T120800
DTEND;TZID=America/Los_Angeles:20251014T123000
DTSTAMP:20260420T181150
CREATED:20251010T222212Z
LAST-MODIFIED:20251010T222358Z
UID:3206-1760443680-1760445000@edisonlax.com
SUMMARY:Players Meeting - Tuesday October 14th @ 12:08 (Lunch)
DESCRIPTION:Coach Isaac will be holding an all players meeting on Tuesday October 14th at 12:08 (Lunch) in Room 501.
URL:https://edisonlax.com/event/players-meeting/
LOCATION:CA
CATEGORIES:Player Meeting
END:VEVENT
BEGIN:VEVENT
DTSTART;TZID=America/Los_Angeles:20250925T173000
DTEND;TZID=America/Los_Angeles:20250925T190000
DTSTAMP:20260420T181150
CREATED:20250906T042333Z
LAST-MODIFIED:20250909T031012Z
UID:2848-1758821400-1758826800@edisonlax.com
SUMMARY:TEST - Fall Workout
DESCRIPTION:
URL:https://edisonlax.com/event/fall-workout/
LOCATION:Edison High School\, 21400 Magnolia St\, Huntington Beach\, CA\, 92646\, United States
CATEGORIES:Workout
ORGANIZER;CN="Mike Madden":MAILTO:mmadden99@gmail.com
END:VEVENT
END:VCALENDAR